BEGIN:VCALENDAR
VERSION:2.0
CALSCALE:GREGORIAN
PRODID:adamgibbons/ics
METHOD:PUBLISH
X-PUBLISHED-TTL:PT1H
BEGIN:VEVENT
UID:DbAoqSfp-Lzm-dJS_45dE
SUMMARY:Interim report January-March 2026
DTSTAMP:20260425T132545Z
DTSTART:20260429T050000Z
DTEND:20260429T050000Z
END:VEVENT
END:VCALENDAR
