BEGIN:VCALENDAR
VERSION:2.0
CALSCALE:GREGORIAN
PRODID:adamgibbons/ics
METHOD:PUBLISH
X-PUBLISHED-TTL:PT1H
BEGIN:VEVENT
UID:wtlKTrKm9K8rPx08I3D72
SUMMARY:Interim report January-June 2026
DTSTAMP:20260425T081637Z
DTSTART:20260715T050000Z
DTEND:20260715T050000Z
END:VEVENT
END:VCALENDAR
