BEGIN:VCALENDAR
VERSION:2.0
CALSCALE:GREGORIAN
PRODID:adamgibbons/ics
METHOD:PUBLISH
X-PUBLISHED-TTL:PT1H
BEGIN:VEVENT
UID:SeJN-TneuWB82HMF4UnBl
SUMMARY:Capital Markets Day 2026\, London
DTSTAMP:20260425T081638Z
DTSTART:20260505T070000Z
DTEND:20260505T143000Z
END:VEVENT
END:VCALENDAR
